BEGIN:VCALENDAR
VERSION:2.0
PRODID:-//wp-events-plugin.com//7.2.3.1//EN
TZID:Europe/Vienna
X-WR-TIMEZONE:Europe/Vienna
BEGIN:VEVENT
UID:2019@kinkydeviants.at
DTSTART;TZID=Europe/Vienna:20250517T190000
DTEND;TZID=Europe/Vienna:20250518T020000
DTSTAMP:20250402T182444Z
URL:https://www.kinkydeviants.at/Veranstaltungen/high-protocol-night-2/
SUMMARY:High Protocol Night
DESCRIPTION:High Protocol Night\n
CATEGORIES:Party
LOCATION:Die Villa\, Auf Anfrage\, Linz\, Österreich
X-APPLE-STRUCTURED-LOCATION;VALUE=URI;X-ADDRESS=Auf Anfrage\, Linz\, Öster
 reich;X-APPLE-RADIUS=100;X-TITLE=Die Villa:geo:0,0
END:VEVENT
BEGIN:VTIMEZONE
TZID:Europe/Vienna
X-LIC-LOCATION:Europe/Vienna
BEGIN:DAYLIGHT
DTSTART:20250330T030000
TZOFFSETFROM:+0100
TZOFFSETTO:+0200
TZNAME:CEST
END:DAYLIGHT
END:VTIMEZONE
END:VCALENDAR