BEGIN:VCALENDAR
VERSION:2.0
PRODID:-//wp-events-plugin.com//7.2.3.1//EN
TZID:Europe/Vienna
X-WR-TIMEZONE:Europe/Vienna
BEGIN:VEVENT
UID:1771@kinkydeviants.at
DTSTART;TZID=Europe/Vienna:20241130T210000
DTEND;TZID=Europe/Vienna:20241201T050000
DTSTAMP:20241105T145400Z
URL:https://www.kinkydeviants.at/Veranstaltungen/hotel-lust-2024-presented
 -by-subrosadictum/
SUMMARY:Hotel Lust 2024 | Presented By SUBROSADICTUM
DESCRIPTION:\nHotel Lust 2024 | Presented By SUBROSADICTUM\n\n
ATTACH;FMTTYPE=image/jpeg:https://www.kinkydeviants.at/wp-content/uploads/
 2024/08/Gastein_IG.jpeg
CATEGORIES:Party
LOCATION:Grand Hotel de l'Europe\, Kaiser Franz Josef Straße 14\, Bad Gast
 ein\, 5640\, Österreich
X-APPLE-STRUCTURED-LOCATION;VALUE=URI;X-ADDRESS=Kaiser Franz Josef Straße 
 14\, Bad Gastein\, 5640\, Österreich;X-APPLE-RADIUS=100;X-TITLE=Grand Hot
 el de l'Europe:geo:0,0
END:VEVENT
BEGIN:VTIMEZONE
TZID:Europe/Vienna
X-LIC-LOCATION:Europe/Vienna
BEGIN:STANDARD
DTSTART:20241027T020000
TZOFFSETFROM:+0200
TZOFFSETTO:+0100
TZNAME:CET
END:STANDARD
END:VTIMEZONE
END:VCALENDAR