BEGIN:VCALENDAR
VERSION:2.0
PRODID:-//wp-events-plugin.com//7.2.3.1//EN
TZID:Europe/Vienna
X-WR-TIMEZONE:Europe/Vienna
BEGIN:VEVENT
UID:2023@kinkydeviants.at
DTSTART;TZID=Europe/Vienna:20250608T130000
DTEND;TZID=Europe/Vienna:20250608T210000
DTSTAMP:20250602T130200Z
URL:https://www.kinkydeviants.at/Veranstaltungen/kd-kinky-deviants-playpar
 ty-juni-pride-edition-2/
SUMMARY:KD: ABGESAGT - Kinky Deviants Playparty Juni - Pride Edition
DESCRIPTION:KD: Kinky Deviants Playparty Juni - Pride Edition\n
CATEGORIES:KD Party
LOCATION:Atelier Mystique\, Gschwandnergasse 10\, 1170\, Wien\, Österreich
X-APPLE-STRUCTURED-LOCATION;VALUE=URI;X-ADDRESS=Gschwandnergasse 10\, 1170\
 , Wien\, Österreich;X-APPLE-RADIUS=100;X-TITLE=Atelier Mystique:geo:0,0
END:VEVENT
BEGIN:VTIMEZONE
TZID:Europe/Vienna
X-LIC-LOCATION:Europe/Vienna
BEGIN:DAYLIGHT
DTSTART:20250330T030000
TZOFFSETFROM:+0100
TZOFFSETTO:+0200
TZNAME:CEST
END:DAYLIGHT
END:VTIMEZONE
END:VCALENDAR