BEGIN:VCALENDAR
VERSION:2.0
PRODID:-//wp-events-plugin.com//7.2.3.1//EN
TZID:Europe/Vienna
X-WR-TIMEZONE:Europe/Vienna
BEGIN:VEVENT
UID:1982@kinkydeviants.at
DTSTART;TZID=Europe/Vienna:20250314T200000
DTEND;TZID=Europe/Vienna:20250315T020000
DTSTAMP:20250114T093501Z
URL:https://www.kinkydeviants.at/Veranstaltungen/kd-kinky-deviants-stammti
 sch-2-2025-03-14/
SUMMARY:KD: Kinky Deviants Stammtisch März
DESCRIPTION:KD: Kinky Deviants Stammtisch März\n
CATEGORIES:KD Stammtisch
LOCATION:SMart Café\, Köstlergasse 9\, Wien\, 1060\, Österreich
X-APPLE-STRUCTURED-LOCATION;VALUE=URI;X-ADDRESS=Köstlergasse 9\, Wien\, 10
 60\, Österreich;X-APPLE-RADIUS=100;X-TITLE=SMart Café:geo:0,0
END:VEVENT
BEGIN:VTIMEZONE
TZID:Europe/Vienna
X-LIC-LOCATION:Europe/Vienna
BEGIN:STANDARD
DTSTART:20241027T020000
TZOFFSETFROM:+0200
TZOFFSETTO:+0100
TZNAME:CET
END:STANDARD
END:VTIMEZONE
END:VCALENDAR