BEGIN:VCALENDAR
VERSION:2.0
PRODID:-//wp-events-plugin.com//7.2.3.1//EN
TZID:Europe/Vienna
X-WR-TIMEZONE:Europe/Vienna
BEGIN:VEVENT
UID:1976@kinkydeviants.at
DTSTART;TZID=Europe/Vienna:20250216T103000
DTEND;TZID=Europe/Vienna:20250216T180000
DTSTAMP:20241105T161917Z
URL:https://www.kinkydeviants.at/Veranstaltungen/kinbaku-workshop-hashira-
 a-different-approach-tag-2/
SUMMARY:Kinbaku Workshop „Hashira – A different approach“ (Tag 2)
DESCRIPTION:Kinbaku Workshop "Hashira - A different approach" (Tag 2)\n
CATEGORIES:Bondage,Workshop
LOCATION:Kinbaku Studio Vienna (Hasenstall)\, Auf Nachfrage\, Wien\, Öster
 reich
X-APPLE-STRUCTURED-LOCATION;VALUE=URI;X-ADDRESS=Auf Nachfrage\, Wien\, Öst
 erreich;X-APPLE-RADIUS=100;X-TITLE=Kinbaku Studio Vienna (Hasenstall):geo:
 0,0
END:VEVENT
BEGIN:VTIMEZONE
TZID:Europe/Vienna
X-LIC-LOCATION:Europe/Vienna
BEGIN:STANDARD
DTSTART:20241027T020000
TZOFFSETFROM:+0200
TZOFFSETTO:+0100
TZNAME:CET
END:STANDARD
END:VTIMEZONE
END:VCALENDAR