BEGIN:VCALENDAR
VERSION:2.0
PRODID:-//wp-events-plugin.com//7.2.3.1//EN
TZID:Europe/Vienna
X-WR-TIMEZONE:Europe/Vienna
BEGIN:VEVENT
UID:1978@kinkydeviants.at
DTSTART;TZID=Europe/Vienna:20241231T190000
DTEND;TZID=Europe/Vienna:20250101T020000
DTSTAMP:20241118T094156Z
URL:https://www.kinkydeviants.at/Veranstaltungen/kinky-villa-silvester-pla
 yparty/
SUMMARY:Kinky Villa SILVESTER PLAYPARTY
DESCRIPTION:Kinky Villa SILVESTER PLAYPARTY\n
CATEGORIES:Party
LOCATION:Die Villa\, Auf Anfrage\, Linz\, Österreich
X-APPLE-STRUCTURED-LOCATION;VALUE=URI;X-ADDRESS=Auf Anfrage\, Linz\, Öster
 reich;X-APPLE-RADIUS=100;X-TITLE=Die Villa:geo:0,0
END:VEVENT
BEGIN:VTIMEZONE
TZID:Europe/Vienna
X-LIC-LOCATION:Europe/Vienna
BEGIN:STANDARD
DTSTART:20241027T020000
TZOFFSETFROM:+0200
TZOFFSETTO:+0100
TZNAME:CET
END:STANDARD
END:VTIMEZONE
END:VCALENDAR