BEGIN:VCALENDAR
VERSION:2.0
PRODID:-//wp-events-plugin.com//7.2.3.1//EN
TZID:Europe/Vienna
X-WR-TIMEZONE:Europe/Vienna
BEGIN:VEVENT
UID:1682@kinkydeviants.at
DTSTART;TZID=Europe/Vienna:20250120T190000
DTEND;TZID=Europe/Vienna:20250120T220000
DTSTAMP:20241105T155154Z
URL:https://www.kinkydeviants.at/Veranstaltungen/members-only-querverbindu
 ngen-fesseltreffen-bondage-meetup-2025-01-20/
SUMMARY:Members Only - Querverbindungen Fesseltreffen / Bondage Meetup
DESCRIPTION:Members Only - Querverbindungen Fesseltreffen / Bondage Meetup
CATEGORIES:Bondage
LOCATION:Querverbindungen-Bondagelocation\, Lange Gasse 65\, Wien\, 1080\, 
 Österreich
X-APPLE-STRUCTURED-LOCATION;VALUE=URI;X-ADDRESS=Lange Gasse 65\, Wien\, 108
 0\, Österreich;X-APPLE-RADIUS=100;X-TITLE=Querverbindungen-Bondagelocatio
 n:geo:0,0
END:VEVENT
BEGIN:VTIMEZONE
TZID:Europe/Vienna
X-LIC-LOCATION:Europe/Vienna
BEGIN:STANDARD
DTSTART:20241027T020000
TZOFFSETFROM:+0200
TZOFFSETTO:+0100
TZNAME:CET
END:STANDARD
END:VTIMEZONE
END:VCALENDAR