BEGIN:VCALENDAR
VERSION:2.0
PRODID:-//wp-events-plugin.com//7.2.3.1//EN
TZID:Europe/Vienna
X-WR-TIMEZONE:Europe/Vienna
BEGIN:VEVENT
UID:2031@kinkydeviants.at
DTSTART;TZID=Europe/Vienna:20250619T183000
DTEND;TZID=Europe/Vienna:20250619T220000
DTSTAMP:20250918T175146Z
URL:https://www.kinkydeviants.at/Veranstaltungen/pain-play-trainingsabend-
 2-2024-11-21-2024-12-19-2025-01-16-2025-02-20-2025-03-20-2025-04-17-2025-0
 5-15-2025-06-19/
SUMMARY:Pain Play Trainingsabend
DESCRIPTION:Pain Play Trainingsabend\n
CATEGORIES:Themenabend
LOCATION:Die Villa\, Auf Anfrage\, Linz\, Österreich
X-APPLE-STRUCTURED-LOCATION;VALUE=URI;X-ADDRESS=Auf Anfrage\, Linz\, Öster
 reich;X-APPLE-RADIUS=100;X-TITLE=Die Villa:geo:0,0
END:VEVENT
BEGIN:VTIMEZONE
TZID:Europe/Vienna
X-LIC-LOCATION:Europe/Vienna
BEGIN:DAYLIGHT
DTSTART:20250330T030000
TZOFFSETFROM:+0100
TZOFFSETTO:+0200
TZNAME:CEST
END:DAYLIGHT
END:VTIMEZONE
END:VCALENDAR