BEGIN:VCALENDAR
VERSION:2.0
PRODID:-//wp-events-plugin.com//7.2.3.1//EN
TZID:Europe/Vienna
X-WR-TIMEZONE:Europe/Vienna
BEGIN:VEVENT
UID:1589@kinkydeviants.at
DTSTART;TZID=Europe/Vienna:20250226T180000
DTEND;TZID=Europe/Vienna:20250226T235900
DTSTAMP:20231209T234513Z
URL:https://www.kinkydeviants.at/Veranstaltungen/polylinz-meetup-2-2025-02
 -26/
SUMMARY:Poly*Linz MeetUp
DESCRIPTION:Poly*Linz MeetUp\n
CATEGORIES:Stammtisch
LOCATION:Game and Dine\, Blumauerstraße 9\, Linz\, Österreich
X-APPLE-STRUCTURED-LOCATION;VALUE=URI;X-ADDRESS=Blumauerstraße 9\, Linz\, 
 Österreich;X-APPLE-RADIUS=100;X-TITLE=Game and Dine:geo:0,0
END:VEVENT
BEGIN:VTIMEZONE
TZID:Europe/Vienna
X-LIC-LOCATION:Europe/Vienna
BEGIN:STANDARD
DTSTART:20241027T020000
TZOFFSETFROM:+0200
TZOFFSETTO:+0100
TZNAME:CET
END:STANDARD
END:VTIMEZONE
END:VCALENDAR