BEGIN:VCALENDAR
VERSION:2.0
PRODID:-//wp-events-plugin.com//7.2.3.1//EN
TZID:Europe/Vienna
X-WR-TIMEZONE:Europe/Vienna
BEGIN:VEVENT
UID:1637@kinkydeviants.at
DTSTART;TZID=Europe/Vienna:20240617T191500
DTEND;TZID=Europe/Vienna:20240617T221500
DTSTAMP:20241105T144608Z
URL:https://www.kinkydeviants.at/Veranstaltungen/querverbindungen-fesseltr
 effen-bondage-jam-2024-06-17/
SUMMARY:Querverbindungen Fesseltreffen / Bondage Meetup
DESCRIPTION:Querverbindungen Fesseltreffen / Bondage Meetup\n
CATEGORIES:Bondage
LOCATION:Querverbindungen-Bondagelocation\, Lange Gasse 65\, Wien\, 1080\, 
 Österreich
X-APPLE-STRUCTURED-LOCATION;VALUE=URI;X-ADDRESS=Lange Gasse 65\, Wien\, 108
 0\, Österreich;X-APPLE-RADIUS=100;X-TITLE=Querverbindungen-Bondagelocatio
 n:geo:0,0
END:VEVENT
BEGIN:VTIMEZONE
TZID:Europe/Vienna
X-LIC-LOCATION:Europe/Vienna
BEGIN:DAYLIGHT
DTSTART:20240331T030000
TZOFFSETFROM:+0100
TZOFFSETTO:+0200
TZNAME:CEST
END:DAYLIGHT
END:VTIMEZONE
END:VCALENDAR