BEGIN:VCALENDAR
VERSION:2.0
PRODID:-//wp-events-plugin.com//7.2.3.1//EN
TZID:Europe/Vienna
X-WR-TIMEZONE:Europe/Vienna
BEGIN:VEVENT
UID:1652@kinkydeviants.at
DTSTART;TZID=Europe/Vienna:20250113T191500
DTEND;TZID=Europe/Vienna:20250113T221500
DTSTAMP:20241105T144608Z
URL:https://www.kinkydeviants.at/Veranstaltungen/querverbindungen-fesseltr
 effen-bondage-jam-2025-01-13/
SUMMARY:Querverbindungen Fesseltreffen / Bondage Meetup
DESCRIPTION:Querverbindungen Fesseltreffen / Bondage Meetup\n
CATEGORIES:Bondage
LOCATION:Querverbindungen-Bondagelocation\, Lange Gasse 65\, Wien\, 1080\, 
 Österreich
X-APPLE-STRUCTURED-LOCATION;VALUE=URI;X-ADDRESS=Lange Gasse 65\, Wien\, 108
 0\, Österreich;X-APPLE-RADIUS=100;X-TITLE=Querverbindungen-Bondagelocatio
 n:geo:0,0
END:VEVENT
BEGIN:VTIMEZONE
TZID:Europe/Vienna
X-LIC-LOCATION:Europe/Vienna
BEGIN:STANDARD
DTSTART:20241027T020000
TZOFFSETFROM:+0200
TZOFFSETTO:+0100
TZNAME:CET
END:STANDARD
END:VTIMEZONE
END:VCALENDAR